BEGIN:VCALENDAR
VERSION:2.0
PRODID:-//MindSpeak - ECPv6.13.2.1//NONSGML v1.0//EN
CALSCALE:GREGORIAN
METHOD:PUBLISH
X-ORIGINAL-URL:https://www.mindspeak.in
X-WR-CALDESC:Events for MindSpeak
REFRESH-INTERVAL;VALUE=DURATION:PT1H
X-Robots-Tag:noindex
X-PUBLISHED-TTL:PT1H
BEGIN:VTIMEZONE
TZID:Asia/Kolkata
BEGIN:STANDARD
TZOFFSETFROM:+0530
TZOFFSETTO:+0530
TZNAME:IST
DTSTART:20170101T000000
END:STANDARD
END:VTIMEZONE
BEGIN:VEVENT
DTSTART;TZID=Asia/Kolkata:20170204T093000
DTEND;TZID=Asia/Kolkata:20170204T130000
DTSTAMP:20260423T231443
CREATED:20161020T112727Z
LAST-MODIFIED:20170104T175659Z
UID:10201-1486200600-1486213200@www.mindspeak.in
SUMMARY:Smart Hiring
DESCRIPTION:Smart Hiring helps you to \n\nShorten your hiring cycle\nReduce your Overall Hiring Costs\nIdentify the right candidates sooner\nMaking hiring more objective\n\n  \nOur Facilitator for this workshop comes with an corporate experience of 10+ years in HR and Trainings having worked with well know organisations like Infosys apart from running their own recruitment consultancy in past. \n Workshop Investment: INR 1900/-  (It’s a Pay 4 Value Workshop) \nShare your details below to register for this workshop! \nLoading… \n\n\nShare on:\n\n\n\n\n\n\n\n\n\nClick on below links to add the event to your calendar.
URL:https://www.mindspeak.in/event/smart-hiring/
LOCATION:CASP Bhavan\, MindSpeak Consultants Pvt Ltd.\, 3rd Floor\, Wing A\, Baner Pashan Link Road\, Pune\, Maharashtra\, 411021\, India
CATEGORIES:Branding,Business,Hiring,HRM,Management,Recruitment
END:VEVENT
END:VCALENDAR