BEGIN:VCALENDAR
VERSION:2.0
PRODID:-//MindSpeak - ECPv6.13.2.1//NONSGML v1.0//EN
CALSCALE:GREGORIAN
METHOD:PUBLISH
X-WR-CALNAME:MindSpeak
X-ORIGINAL-URL:https://www.mindspeak.in
X-WR-CALDESC:Events for MindSpeak
REFRESH-INTERVAL;VALUE=DURATION:PT1H
X-Robots-Tag:noindex
X-PUBLISHED-TTL:PT1H
BEGIN:VTIMEZONE
TZID:Asia/Kolkata
BEGIN:STANDARD
TZOFFSETFROM:+0530
TZOFFSETTO:+0530
TZNAME:IST
DTSTART:20160101T000000
END:STANDARD
END:VTIMEZONE
BEGIN:VEVENT
DTSTART;TZID=Asia/Kolkata:20240911T143000
DTEND;TZID=Asia/Kolkata:20240911T170000
DTSTAMP:20260423T230027
CREATED:20240910T035714Z
LAST-MODIFIED:20240910T040000Z
UID:10486-1726065000-1726074000@www.mindspeak.in
SUMMARY:Understanding Change
DESCRIPTION:Change is inevitable\, whether in life or the workplace. The ability to understand and assimilate change is crucial for growth and success. \nBy comprehending why change happens\, we develop resilience and adaptability\, two key traits for navigating uncertainty. Embracing change enables us to see new opportunities\, foster innovation\, and stay competitive. \nInstead of resisting\, accepting change helps us move forward with clarity and purpose. It encourages continuous learning and personal development\, keeping us aligned with evolving trends and demands. \nUltimately\, understanding and assimilating change is not just about surviving—it’s about thriving in a dynamic world.
URL:https://www.mindspeak.in/event/understanding-change/
LOCATION:Online\, Link will be shared with confirmed participants\, Any\, India
CATEGORIES:Business,Career Growth,Communication,Conflict Management,HRM,Leadership,Management,Personal Development
ATTACH;FMTTYPE=image/jpeg:https://www.mindspeak.in/wp-content/uploads/2014/06/photodune-1391413-sculptor-m.jpg
END:VEVENT
BEGIN:VEVENT
DTSTART;TZID=Asia/Kolkata:20181010T093000
DTEND;TZID=Asia/Kolkata:20181010T110000
DTSTAMP:20260423T230027
CREATED:20170101T132528Z
LAST-MODIFIED:20180918T145807Z
UID:10396-1539163800-1539169200@www.mindspeak.in
SUMMARY:Effective Conflict Management
DESCRIPTION:Be it at workplace or outside work\, conflicts are bound to happen. In fact they are intrinsic part of our daily lives. Hence our ability to Manage Conflicts Effectively has a significant contribution\, not only on our business and/or career growth\, but also overall personal happiness index. Given today’s fast paced life\, it is important that there are people who understand conflicts and know how to resolve them effectively. Our Online\, two part Conflict Management Workshop equips you with the skills  to identify and handle conflicts sensibly\, fairly\, and efficiently. After this workshop you would: \n\nBe able to identify the 8 main causes for conflict.\nUnderstand impact of unresolved conflicts on work/business.\nGet insight into improvement areas specific to you.\nLearn different approaches for managing conflict effectively.\n\nThe Methodology – The workshop will be dynamic\, interactive and filled with numerous practical and real life senarios. The participants will be able to identify ideas and plans that can be put to practice immediately with quick benefits. \nOur Faculty for this program would be an Internationally certified Leadership & Business Coach with more than two decades of corporate & business experience. \nThere is no pre-work associated with this workshop. The only requirement is that participants attend with an open mind\, heart and will to learn. \n Workshop Investment: INR 1770/- (includes GST @ 18%) \n Workshop Date(s): October 10th & 17th\, 2018 from 9:00 am to 10:30 am IST (GMT + 5:30) \n Link for training will be shared with confirmed participants   \nShare your details below to register for this workshop! Payment Options will be shared post successful registration. \nLoading… \n\n\nShare on:\n\n\n\n\n\n\n\n\n\nClick on below links to add the event to your calendar.
URL:https://www.mindspeak.in/event/conflict-management-2/
LOCATION:Online\, Link will be shared with confirmed participants\, Any\, India
CATEGORIES:Business,Career Growth,Communication,Conflict Management,Entrepreneurship,Feedback,HRM,Leadership,Management,Personal Development
END:VEVENT
BEGIN:VEVENT
DTSTART;TZID=Asia/Kolkata:20170506T093000
DTEND;TZID=Asia/Kolkata:20170506T130000
DTSTAMP:20260423T230027
CREATED:20161026T090424Z
LAST-MODIFIED:20170101T132213Z
UID:10238-1494063000-1494075600@www.mindspeak.in
SUMMARY:Accelerating Career Growth
DESCRIPTION:Have you ever wondered how some people\, even with mediocre abilities\, are able to move up the career ladder faster than you? Are you tried of making case after case for your career growth with your manager/organisation and hit a wall everytime? Are you feeling stagnated in your career?  \nThen this workshop is just what you need to help you change tracks. At this workshop you will.. \n\nLearn the hidden secrets that lead to hyperbolic career growth\nUnderstand the techniques to help you accelerating your career progress.\nBuild Your Blue Print for a FastTrack Career.\nAccelerate your career growth by following your own blueprint\n Workshop Investment: INR 2400/-  (It’s a Pay 4 Value Workshop) \nShare your details below to register for this workshop! \nLoading… \n\n\nShare on:\n\n\n\n\n\n\n\n\n\nClick on below links to add the event to your calendar.
URL:https://www.mindspeak.in/event/accelerating-career-growth/
LOCATION:CASP Bhavan\, MindSpeak Consultants Pvt Ltd.\, 3rd Floor\, Wing A\, Baner Pashan Link Road\, Pune\, Maharashtra\, 411021\, India
CATEGORIES:Career Growth,Communication,Leadership,Management,Networking,Personal Development,Planning
END:VEVENT
BEGIN:VEVENT
DTSTART;TZID=Asia/Kolkata:20170318T093000
DTEND;TZID=Asia/Kolkata:20170318T130000
DTSTAMP:20260423T230027
CREATED:20161031T071901Z
LAST-MODIFIED:20170101T132026Z
UID:10291-1489829400-1489842000@www.mindspeak.in
SUMMARY:Conducting Effective Meetings
DESCRIPTION:When was it when you last enjoyed being part of a meeting? When did you last believe that the meeting you attended was effective? Ok\, let’s try it once more. When was the last time\, you felt engaged during the entire meeting? Not easy to recall? \nCome join us to understand how to run your meetings in and engaging and effective manner. Learn the techniques to ensure that your meetings achieve their desired results. Understand the necessary pre\, during and post-meeting tasks and roles to run efficient and useful meetings that your team appreciates.  \n Workshop Investment: INR 2400/-  (It’s a Pay 4 Value Workshop) \nShare your details below to register for the workshop. \nLoading… \n\n\nShare on:\n\n\n\n\n\n\n\n\n\nClick on below links to add the event to your calendar.
URL:https://www.mindspeak.in/event/conducting-effective-meetings/
LOCATION:CASP Bhavan\, MindSpeak Consultants Pvt Ltd.\, 3rd Floor\, Wing A\, Baner Pashan Link Road\, Pune\, Maharashtra\, 411021\, India
CATEGORIES:Communication,Leadership,Management,Personal Development,Planning
END:VEVENT
BEGIN:VEVENT
DTSTART;TZID=Asia/Kolkata:20170304T093000
DTEND;TZID=Asia/Kolkata:20170304T130000
DTSTAMP:20260423T230027
CREATED:20161026T090235Z
LAST-MODIFIED:20170101T131940Z
UID:10236-1488619800-1488632400@www.mindspeak.in
SUMMARY:Managing Self Performance
DESCRIPTION:Does the very thought of performance review make your stomach churn? Does every appraisal meeting with your manager leave you feeling short-changed and dissatisfied? Do  the growth prospects leave you disillusioned?   \nChange all that. Join us for a few hours and learn how to change all that. Learn how to manage your performance by yourself and not depend on your managers feedback. Arm yourself with tools and methods that would help you have a better and productive discussion with your manager. \n Workshop Investment: INR 1900/-  (It’s a Pay 4 Value Workshop) \nShare your details below to register for the workshop. \nLoading… \n\n\nShare on:\n\n\n\n\n\n\n\n\n\nClick on below links to add the event to your calendar.
URL:https://www.mindspeak.in/event/managing-self-performance/
LOCATION:CASP Bhavan\, MindSpeak Consultants Pvt Ltd.\, 3rd Floor\, Wing A\, Baner Pashan Link Road\, Pune\, Maharashtra\, 411021\, India
CATEGORIES:Career Growth,Communication,Entrepreneurship,Personal Development,Planning
END:VEVENT
BEGIN:VEVENT
DTSTART;TZID=Asia/Kolkata:20170204T143000
DTEND;TZID=Asia/Kolkata:20170204T180000
DTSTAMP:20260423T230027
CREATED:20161020T112247Z
LAST-MODIFIED:20170101T131439Z
UID:10194-1486218600-1486231200@www.mindspeak.in
SUMMARY:Giving Effective Feedback
DESCRIPTION:A stitch in time saves nine. Same is true for Feedback as well. When given at right time and right context\, it goes a long way in improving employee engagement and productivity. Giving Effective Feedback workshop helps you to understand and learn.. \n\nWhat is the purpose of Feedback?\nWho should give feedback to whom\, when\, where & how?\nChallenges & Opportunities\nFeedback Techniques\n\nThe skill once mastered would prove valuable in improving the quality of personal relationships as well. \nThe Methodology – The workshop will be dynamic\, interactive and filled with numerous practical and real life senarios. The participants will leave with ideas and plans that can be put to practice immediately with quick benefits. \nOur Faculty for this program would be an Internationally certified Leadership & Business Coach with more than two decades of corporate & business experience. \nThere is no pre-work associated with this workshop. The only requirement is that participants come with an open mind\, heart and will to learn. \n Workshop Investment: INR 2400/-  (It’s a Pay 4 Value Workshop) \nShare your details below to register for this workshop! \nLoading… \n\n\nShare on:\n\n\n\n\n\n\n\n\n\nClick on below links to add the event to your calendar.
URL:https://www.mindspeak.in/event/giving-effective-feedback/
LOCATION:CASP Bhavan\, MindSpeak Consultants Pvt Ltd.\, 3rd Floor\, Wing A\, Baner Pashan Link Road\, Pune\, Maharashtra\, 411021\, India
CATEGORIES:Business,Career Growth,Communication,Conflict Management,Entrepreneurship,Feedback,HRM,Leadership,Management,Personal Development
END:VEVENT
BEGIN:VEVENT
DTSTART;TZID=Asia/Kolkata:20161217T093000
DTEND;TZID=Asia/Kolkata:20161217T130000
DTSTAMP:20260423T230027
CREATED:20161019T235138Z
LAST-MODIFIED:20161119T062835Z
UID:10179-1481967000-1481979600@www.mindspeak.in
SUMMARY:The Art of Conversation
DESCRIPTION:Whether you are a home maker\, or a professional at work\, the fact stays that in today’s world a lot of success depends upon how well you are able to Communicate. \nIf you feel challenged in striking up a conversation with others\, or taking part in an ongoing discussion\, then this Workshop is must attend for you. This workshop is designed to help you overcome the awkwardness and take steps towards becoming a fluent conversationalist. Be it to initiate a new conversation\, or join an ongoing one\, learn how to be at ease. \nAt this workshop you’ll learn tools and techniques to overcome your challenges and be able to initiate or join any conversation anywhere. Whether the setting is a professional one at office\, or a social get together\, you’ll never again shy away from interactions that need you to converse. \nOur Facilitator for this workshop comes with an corporate experience of 10+ years in HR and Trainings having worked with well know organisations like Infosys. \n Workshop Investment: INR 1400/-  (It’s a Pay 4 Value Workshop) \nTo register for this workshop\, enter your details in the form given below! \nLoading… \n\n\nShare on:\n\n\n\n\n\n\n\n\n\nClick on below links to add the event to your calendar.
URL:https://www.mindspeak.in/event/the-art-of-conversation/
LOCATION:CASP Bhavan\, MindSpeak Consultants Pvt Ltd.\, 3rd Floor\, Wing A\, Baner Pashan Link Road\, Pune\, Maharashtra\, 411021\, India
CATEGORIES:Career Growth,Communication,Networking,Personal Development
END:VEVENT
END:VCALENDAR